BEGIN:VCALENDAR
VERSION:2.0
PRODID:-//Lifesaving Society Manitoba - ECPv6.3.4//NONSGML v1.0//EN
CALSCALE:GREGORIAN
METHOD:PUBLISH
X-WR-CALNAME:Lifesaving Society Manitoba
X-ORIGINAL-URL:https://bounce4.thedev.ca
X-WR-CALDESC:Events for Lifesaving Society Manitoba
REFRESH-INTERVAL;VALUE=DURATION:PT1H
X-Robots-Tag:noindex
X-PUBLISHED-TTL:PT1H
BEGIN:VTIMEZONE
TZID:America/Winnipeg
BEGIN:DAYLIGHT
TZOFFSETFROM:-0600
TZOFFSETTO:-0500
TZNAME:CDT
DTSTART:20240310T080000
END:DAYLIGHT
BEGIN:STANDARD
TZOFFSETFROM:-0500
TZOFFSETTO:-0600
TZNAME:CST
DTSTART:20241103T070000
END:STANDARD
END:VTIMEZONE
BEGIN:VEVENT
DTSTART;TZID=America/Winnipeg:20240429T120000
DTEND;TZID=America/Winnipeg:20240429T170000
DTSTAMP:20260420T210840
CREATED:20240207T162852Z
LAST-MODIFIED:20240207T182523Z
UID:2762-1714392000-1714410000@bounce4.thedev.ca
SUMMARY:Supervision Evaluation and Enhancement (S.E.E.) Auditor Course
DESCRIPTION:The Supervision Evaluation and Enhancement (SEE) Auditor course is designed to give individuals the knowledge\, training and tools required to evaluate the effectiveness of lifeguard and instructor safety supervision using Lifesaving Society SEE checklists. \nPre-requisites – One of the following: \n\nNational Lifeguard certification with 100 hours of lifeguarding experience\, or\nNational Lifeguard Examiner appointment\, or\nAquatic Supervisor certification\, or\nAquatic Manager certification.\n\nResources Required: SEE Auditor Workbook (Cost of this text is included in the registration fee and it will be provided at the course). \nRegistration Deadline:  Ten business days prior to the starting date of the course. \nTo register please go to LifeguardShop.ca. \nPre-course learning/preparation will be shared via e-mail.
URL:https://bounce4.thedev.ca/event/s-e-e-auditor/
LOCATION:Brandon Sportsplex\, 30 Knowlton Drive\, Brandon\, Manitoba\, R7A 6N7\, Canada
ORGANIZER;CN="Lifesaving Society Manitoba":MAILTO:info@lifesaving.mb.ca
END:VEVENT
END:VCALENDAR