BEGIN:VCALENDAR
VERSION:2.0
PRODID:-//Lifesaving Society Manitoba - ECPv6.3.4//NONSGML v1.0//EN
CALSCALE:GREGORIAN
METHOD:PUBLISH
X-ORIGINAL-URL:https://bounce4.thedev.ca
X-WR-CALDESC:Events for Lifesaving Society Manitoba
REFRESH-INTERVAL;VALUE=DURATION:PT1H
X-Robots-Tag:noindex
X-PUBLISHED-TTL:PT1H
BEGIN:VTIMEZONE
TZID:America/Winnipeg
BEGIN:DAYLIGHT
TZOFFSETFROM:-0600
TZOFFSETTO:-0500
TZNAME:CDT
DTSTART:20240310T080000
END:DAYLIGHT
BEGIN:STANDARD
TZOFFSETFROM:-0500
TZOFFSETTO:-0600
TZNAME:CST
DTSTART:20241103T070000
END:STANDARD
END:VTIMEZONE
BEGIN:VEVENT
DTSTART;VALUE=DATE:20240520
DTEND;VALUE=DATE:20240521
DTSTAMP:20260420T210548
CREATED:20240207T171739Z
LAST-MODIFIED:20240207T171739Z
UID:2786-1716163200-1716249599@bounce4.thedev.ca
SUMMARY:Office Closure
DESCRIPTION:Lifesaving Society Manitoba Office will be closed on Monday May 20\, 2024. \nOur offices will open on Tuesday May 21\, 2024\, with regular business hours.
URL:https://bounce4.thedev.ca/event/office-closure-3/
END:VEVENT
END:VCALENDAR