BEGIN:VCALENDAR
VERSION:2.0
PRODID:-//Lifesaving Society Manitoba - ECPv6.3.4//NONSGML v1.0//EN
CALSCALE:GREGORIAN
METHOD:PUBLISH
X-WR-CALNAME:Lifesaving Society Manitoba
X-ORIGINAL-URL:https://bounce4.thedev.ca
X-WR-CALDESC:Events for Lifesaving Society Manitoba
REFRESH-INTERVAL;VALUE=DURATION:PT1H
X-Robots-Tag:noindex
X-PUBLISHED-TTL:PT1H
BEGIN:VTIMEZONE
TZID:America/Winnipeg
BEGIN:DAYLIGHT
TZOFFSETFROM:-0600
TZOFFSETTO:-0500
TZNAME:CDT
DTSTART:20240310T080000
END:DAYLIGHT
BEGIN:STANDARD
TZOFFSETFROM:-0500
TZOFFSETTO:-0600
TZNAME:CST
DTSTART:20241103T070000
END:STANDARD
END:VTIMEZONE
BEGIN:VEVENT
DTSTART;TZID=America/Winnipeg:20241024T170000
DTEND;TZID=America/Winnipeg:20241103T183000
DTSTAMP:20260420T115442
CREATED:20240207T171314Z
LAST-MODIFIED:20240207T180753Z
UID:2780-1729789200-1730658600@bounce4.thedev.ca
SUMMARY:National Lifeguard Instructor Course
DESCRIPTION:Course dates & times:  \nThursday October 24\, 5:00 P.M. – 9:30 P.M. \nSaturday October 26\, 8:00 A.M. – 6:30 P.M. \nSunday October 27\, 8:00 A.M. – 6:30 P.M. \nSaturday November 2\, 8:00 A.M. – 6:30 P.M. \nSunday November 3\, 8:00 A.M. – 6:30 P.M. \nLocation: \nT.B.A. \nPre-requisites \n\nNational Lifeguard any stream by first day of course\nLifesaving Instructor by first day of course\nLifesaving First Aid Instructor by first day of course\nRecommended having taught a minimum of 2 Bronze Level courses and examined one Bronze Medallion or higher by first day of course.\nAEC certification preferred\nIf from another province may need to have successfully completed an Examination Standards Clinic or have current Lifesaving Examiner Appointment by first day of course\n\nNational Lifeguard Instructors are experienced lifeguards and instructors who are ready to train the next generation of aquatic professionals. They learn the ins and outs of the National Lifeguard program and learn what it takes to run successful courses and recertification examinations. \nIn Manitoba\, our National Lifeguard Instructor course also includes Aquatic Emergency Care Instructor certification. \nRecertification Process\n\nInstructors must successfully complete an NL & AEC Instructor recertification. Or;\nHave a current NL Pool & AEC Trainer appointment within five years from the expiry date.\n\nInstructors must attend revisions or update clinics as required. If instructors fail to do either of these items\, they will be required to retake the entire NL & AEC Instructor Course.
URL:https://bounce4.thedev.ca/event/national-lifeguard-instructor-course-2/
END:VEVENT
END:VCALENDAR