BEGIN:VCALENDAR
VERSION:2.0
PRODID:-//Lifesaving Society Manitoba - ECPv6.3.4//NONSGML v1.0//EN
CALSCALE:GREGORIAN
METHOD:PUBLISH
X-ORIGINAL-URL:https://bounce4.thedev.ca
X-WR-CALDESC:Events for Lifesaving Society Manitoba
REFRESH-INTERVAL;VALUE=DURATION:PT1H
X-Robots-Tag:noindex
X-PUBLISHED-TTL:PT1H
BEGIN:VTIMEZONE
TZID:America/Winnipeg
BEGIN:DAYLIGHT
TZOFFSETFROM:-0600
TZOFFSETTO:-0500
TZNAME:CDT
DTSTART:20240310T080000
END:DAYLIGHT
BEGIN:STANDARD
TZOFFSETFROM:-0500
TZOFFSETTO:-0600
TZNAME:CST
DTSTART:20241103T070000
END:STANDARD
BEGIN:DAYLIGHT
TZOFFSETFROM:-0600
TZOFFSETTO:-0500
TZNAME:CDT
DTSTART:20250309T080000
END:DAYLIGHT
BEGIN:STANDARD
TZOFFSETFROM:-0500
TZOFFSETTO:-0600
TZNAME:CST
DTSTART:20251102T070000
END:STANDARD
END:VTIMEZONE
BEGIN:VEVENT
DTSTART;VALUE=DATE:20240902
DTEND;VALUE=DATE:20240903
DTSTAMP:20260420T175644
CREATED:20240207T172015Z
LAST-MODIFIED:20240207T172015Z
UID:2792-1725235200-1725321599@bounce4.thedev.ca
SUMMARY:Office Closure
DESCRIPTION:Lifesaving Society Manitoba Office will be closed on Monday September 2\, 2024. \nOur offices will open on Tuesday September 3\, 2024\, with regular business hours.
URL:https://bounce4.thedev.ca/event/office-closure-6/
END:VEVENT
BEGIN:VEVENT
DTSTART;TZID=America/Winnipeg:20240912T090000
DTEND;TZID=America/Winnipeg:20240913T170000
DTSTAMP:20260420T175644
CREATED:20240207T164937Z
LAST-MODIFIED:20240207T183100Z
UID:2776-1726131600-1726246800@bounce4.thedev.ca
SUMMARY:Aquatic Supervisor Course
DESCRIPTION:Aquatic Supervisor certification is the Lifesaving Society training standard for instructors and lifeguards who wish to assume deck-level supervisor responsibilities for overseeing instructional and recreational programs and day-to-day operations at aquatic facilities. \nThe Aquatic Supervisor course introduces participants to the knowledge\, skills and tools required to effectively guide fellow staff members in the safe delivery of aquatic programs and services\, and to prepare for effective emergency response. \nPre-requisites: National Lifeguard certification (need not be current) and one of the following – Lifesaving Society Swim for Life Instructor or Lifesaving Instructor certification (need not be current). \nResources Required: Aquatic Supervisor Workbook (Cost of this text is included in registration fee\, please select shipping option upon ordering) \nRegistration Deadline:  Ten business days prior to the start date of the clinic. \nTo register please go to LifeguardShop.ca. \nCourse materials will be shipped out to candidates in advance of the clinic by the method chosen at checkout. \nPre-course learning/preparation\, draft schedule and full location details will be shared via e-mail to whichever e-mail address you used to register.  Course hours will normally be 9:00 AM to 5:00 PM (including all breaks).
URL:https://bounce4.thedev.ca/event/aquatic-supervisor-training-2/
ORGANIZER;CN="Lifesaving Society Manitoba":MAILTO:info@lifesaving.mb.ca
END:VEVENT
BEGIN:VEVENT
DTSTART;TZID=America/Winnipeg:20240924T090000
DTEND;TZID=America/Winnipeg:20240925T173000
DTSTAMP:20260420T175644
CREATED:20240207T165100Z
LAST-MODIFIED:20240207T183001Z
UID:2778-1727168400-1727285400@bounce4.thedev.ca
SUMMARY:Aquatic Manager Course
DESCRIPTION:Aquatic Manager certification is the Lifesaving Society’s professional designation for managers who\, regardless of their aquatic background\, are responsible for oversight of aquatic programs and services. \nThe Aquatic Manager course equips participants with the knowledge\, principles and skills required to confidently direct excellent program delivery\, responsive customer service\, and attentive compliance with health and safety standards in the aquatic environment. \nPre-requisites: None \nResources Required: Aquatic Manager Workbook (Cost of this text is included in registration fee\, please select shipping option upon ordering) \nRegistration Deadline:  Ten business days prior to the start date of the clinic. \nTo register please go to LifeguardShop.ca. \nCourse materials will be shipped out to candidates in advance of the clinic by the method chosen at checkout. \nPre-course learning/preparation\, draft schedule and full location details will be shared via e-mail to whichever e-mail address you use to register.  Course hours will normally be 9:00 AM to 5:30 PM (including all breaks).
URL:https://bounce4.thedev.ca/event/aquatic-manager-course-2/
ORGANIZER;CN="Lifesaving Society Manitoba":MAILTO:info@lifesaving.mb.ca
END:VEVENT
BEGIN:VEVENT
DTSTART;VALUE=DATE:20240930
DTEND;VALUE=DATE:20241001
DTSTAMP:20260420T175644
CREATED:20240207T172824Z
LAST-MODIFIED:20240207T172824Z
UID:2795-1727654400-1727740799@bounce4.thedev.ca
SUMMARY:National Day for Truth and Reconciliation
DESCRIPTION:Both the National Day for Truth and Reconciliation and Orange Shirt Day take place on September 30. \nThe day honours the children who never returned home and Survivors of residential schools\, as well as their families and communities. Public commemoration of the tragic and painful history and ongoing impacts of residential schools is a vital component of the reconciliation process. \nOrange Shirt Day is an Indigenous-led grassroots commemorative day intended to raise awareness of the individual\, family and community inter-generational impacts of residential schools\, and to promote the concept of “Every Child Matters”.  The orange shirt is a symbol of the stripping away of culture\, freedom and self-esteem experienced by Indigenous children over generations. \nOn September 30\, we wear orange to honour the thousands of Survivors of residential schools.
URL:https://bounce4.thedev.ca/event/national-day-for-truth-and-reconciliation/
END:VEVENT
BEGIN:VEVENT
DTSTART;VALUE=DATE:20241014
DTEND;VALUE=DATE:20241015
DTSTAMP:20260420T175644
CREATED:20240207T173124Z
LAST-MODIFIED:20240207T173124Z
UID:2797-1728864000-1728950399@bounce4.thedev.ca
SUMMARY:Office Closure
DESCRIPTION:Lifesaving Society Manitoba Office will be closed on Monday October 14\, 2024. \nOur offices will open on Tuesday October 15\, 2024\, with regular business hours.
URL:https://bounce4.thedev.ca/event/office-closure-7/
END:VEVENT
BEGIN:VEVENT
DTSTART;TZID=America/Winnipeg:20241024T170000
DTEND;TZID=America/Winnipeg:20241103T183000
DTSTAMP:20260420T175644
CREATED:20240207T171314Z
LAST-MODIFIED:20240207T180753Z
UID:2780-1729789200-1730658600@bounce4.thedev.ca
SUMMARY:National Lifeguard Instructor Course
DESCRIPTION:Course dates & times:  \nThursday October 24\, 5:00 P.M. – 9:30 P.M. \nSaturday October 26\, 8:00 A.M. – 6:30 P.M. \nSunday October 27\, 8:00 A.M. – 6:30 P.M. \nSaturday November 2\, 8:00 A.M. – 6:30 P.M. \nSunday November 3\, 8:00 A.M. – 6:30 P.M. \nLocation: \nT.B.A. \nPre-requisites \n\nNational Lifeguard any stream by first day of course\nLifesaving Instructor by first day of course\nLifesaving First Aid Instructor by first day of course\nRecommended having taught a minimum of 2 Bronze Level courses and examined one Bronze Medallion or higher by first day of course.\nAEC certification preferred\nIf from another province may need to have successfully completed an Examination Standards Clinic or have current Lifesaving Examiner Appointment by first day of course\n\nNational Lifeguard Instructors are experienced lifeguards and instructors who are ready to train the next generation of aquatic professionals. They learn the ins and outs of the National Lifeguard program and learn what it takes to run successful courses and recertification examinations. \nIn Manitoba\, our National Lifeguard Instructor course also includes Aquatic Emergency Care Instructor certification. \nRecertification Process\n\nInstructors must successfully complete an NL & AEC Instructor recertification. Or;\nHave a current NL Pool & AEC Trainer appointment within five years from the expiry date.\n\nInstructors must attend revisions or update clinics as required. If instructors fail to do either of these items\, they will be required to retake the entire NL & AEC Instructor Course.
URL:https://bounce4.thedev.ca/event/national-lifeguard-instructor-course-2/
END:VEVENT
BEGIN:VEVENT
DTSTART;VALUE=DATE:20241111
DTEND;VALUE=DATE:20241112
DTSTAMP:20260420T175644
CREATED:20240207T173407Z
LAST-MODIFIED:20240207T173407Z
UID:2799-1731283200-1731369599@bounce4.thedev.ca
SUMMARY:Remembrance Day - Office Closed
DESCRIPTION:Every year on November 11\, Canadians pause in a silent moment of remembrance for the men and women who have served and continue to serve our country during times of war\, conflict and peace. \nLifesaving Society Manitoba Office will be closed on Monday November 11\, 2024. \nOur offices will open on Tuesday November 12\, 2024\, with regular business hours.
URL:https://bounce4.thedev.ca/event/remembrance-day-office-closed/
END:VEVENT
BEGIN:VEVENT
DTSTART;VALUE=DATE:20241224
DTEND;VALUE=DATE:20250109
DTSTAMP:20260420T175644
CREATED:20240207T173832Z
LAST-MODIFIED:20240207T173832Z
UID:2801-1734998400-1736380799@bounce4.thedev.ca
SUMMARY:Holiday Closure
DESCRIPTION:Lifesaving Society Manitoba Office will be closed on Tuesday December 24\, 2024. \nOur offices will open on Monday January 6\, 2024\, with regular business hours.
URL:https://bounce4.thedev.ca/event/holiday-closure/
END:VEVENT
END:VCALENDAR