BEGIN:VCALENDAR
VERSION:2.0
PRODID:-//Lifesaving Society Manitoba - ECPv6.3.4//NONSGML v1.0//EN
CALSCALE:GREGORIAN
METHOD:PUBLISH
X-WR-CALNAME:Lifesaving Society Manitoba
X-ORIGINAL-URL:https://bounce4.thedev.ca
X-WR-CALDESC:Events for Lifesaving Society Manitoba
REFRESH-INTERVAL;VALUE=DURATION:PT1H
X-Robots-Tag:noindex
X-PUBLISHED-TTL:PT1H
BEGIN:VTIMEZONE
TZID:America/Winnipeg
BEGIN:DAYLIGHT
TZOFFSETFROM:-0600
TZOFFSETTO:-0500
TZNAME:CDT
DTSTART:20240310T080000
END:DAYLIGHT
BEGIN:STANDARD
TZOFFSETFROM:-0500
TZOFFSETTO:-0600
TZNAME:CST
DTSTART:20241103T070000
END:STANDARD
END:VTIMEZONE
BEGIN:VEVENT
DTSTART;TZID=America/Winnipeg:20240223T083000
DTEND;TZID=America/Winnipeg:20240223T130000
DTSTAMP:20260421T060955
CREATED:20240206T213615Z
LAST-MODIFIED:20240207T182627Z
UID:2734-1708677000-1708693200@bounce4.thedev.ca
SUMMARY:Supervision Evaluation and Enhancement (S.E.E.) Auditor Course
DESCRIPTION:The Supervision Evaluation and Enhancement (SEE) Auditor course is designed to give individuals the knowledge\, training and tools required to evaluate the effectiveness of lifeguard and instructor safety supervision using Lifesaving Society SEE checklists. \nPre-requisites – One of the following: \n\nNational Lifeguard certification with 100 hours of lifeguarding experience\, or\nNational Lifeguard Examiner appointment\, or\nAquatic Supervisor certification\, or\nAquatic Manager certification.\n\nResources Required: SEE Auditor Workbook (Cost of this text is included in the registration fee and it will be provided at the course). \nRegistration Deadline:  Ten business days prior to the starting date of the course. \nTo register please go to LifeguardShop.ca. \nPre-course learning/preparation will be shared via e-mail.
URL:https://bounce4.thedev.ca/event/s-e-e-auditor-training/
LOCATION:Lifesaving Society Manitoba\, 100-383 Provencher Blvd\, Winnipeg\, Manitoba\, R3R 2X9\, Canada
ORGANIZER;CN="Lifesaving Society Manitoba":MAILTO:info@lifesaving.mb.ca
END:VEVENT
BEGIN:VEVENT
DTSTART;VALUE=DATE:20240219
DTEND;VALUE=DATE:20240220
DTSTAMP:20260421T060955
CREATED:20240207T171631Z
LAST-MODIFIED:20240207T171642Z
UID:2784-1708300800-1708387199@bounce4.thedev.ca
SUMMARY:Office Closure
DESCRIPTION:Lifesaving Society Manitoba Office will be closed on Monday February 19\, 2024. \nOur offices will open on Tuesday February 20\, 2024\, with regular business hours.
URL:https://bounce4.thedev.ca/event/office-closure-2/
END:VEVENT
END:VCALENDAR